BEGIN:VCALENDAR
VERSION:2.0
PRODID:-//Stowe Center for Literary Activism - ECPv6.15.20//NONSGML v1.0//EN
CALSCALE:GREGORIAN
METHOD:PUBLISH
X-ORIGINAL-URL:https://stowecenter.org
X-WR-CALDESC:Events for Stowe Center for Literary Activism
REFRESH-INTERVAL;VALUE=DURATION:PT1H
X-Robots-Tag:noindex
X-PUBLISHED-TTL:PT1H
BEGIN:VTIMEZONE
TZID:America/New_York
BEGIN:DAYLIGHT
TZOFFSETFROM:-0500
TZOFFSETTO:-0400
TZNAME:EDT
DTSTART:20250309T070000
END:DAYLIGHT
BEGIN:STANDARD
TZOFFSETFROM:-0400
TZOFFSETTO:-0500
TZNAME:EST
DTSTART:20251102T060000
END:STANDARD
BEGIN:DAYLIGHT
TZOFFSETFROM:-0500
TZOFFSETTO:-0400
TZNAME:EDT
DTSTART:20260308T070000
END:DAYLIGHT
BEGIN:STANDARD
TZOFFSETFROM:-0400
TZOFFSETTO:-0500
TZNAME:EST
DTSTART:20261101T060000
END:STANDARD
BEGIN:DAYLIGHT
TZOFFSETFROM:-0500
TZOFFSETTO:-0400
TZNAME:EDT
DTSTART:20270314T070000
END:DAYLIGHT
BEGIN:STANDARD
TZOFFSETFROM:-0400
TZOFFSETTO:-0500
TZNAME:EST
DTSTART:20271107T060000
END:STANDARD
END:VTIMEZONE
BEGIN:VEVENT
DTSTART;TZID=America/New_York:20260423T123000
DTEND;TZID=America/New_York:20260423T133000
DTSTAMP:20260421T122710
CREATED:20251117T203006Z
LAST-MODIFIED:20251117T203007Z
UID:10002406-1776947400-1776951000@stowecenter.org
SUMMARY:Inspiring Stowe
DESCRIPTION:We look forward to inspiring you with the life and work of Harriet Beecher Stowe\, author of Uncle Tom’s Cabin (1852)\, a complex and controversial novel that galvanized the anti-slavery movement. Our tours address the history of enslavement and racism in a conversational format and invite and encourage visitors to make connections between inequities then and now.
URL:https://stowecenter.org/event/inspiring-stowe-20-47/
LOCATION:Stowe Center for Literary Activism\, 77 Forest Street\, Hartford\, CT\, 06106\, United States
CATEGORIES:Inspiring Stowe
ATTACH;FMTTYPE=image/jpeg:https://stowecenter.org/wp-content/uploads/2025/08/IMG_7349-scaled.jpg
ORGANIZER;CN="Stowe Center for Literary Activism":MAILTO:info@stowecenter.org
END:VEVENT
BEGIN:VEVENT
DTSTART;TZID=America/New_York:20260423T153000
DTEND;TZID=America/New_York:20260423T163000
DTSTAMP:20260421T122710
CREATED:20251117T202903Z
LAST-MODIFIED:20251117T202903Z
UID:10003294-1776958200-1776961800@stowecenter.org
SUMMARY:Inspiring Stowe
DESCRIPTION:We look forward to inspiring you with the life and work of Harriet Beecher Stowe\, author of Uncle Tom’s Cabin (1852)\, a complex and controversial novel that galvanized the anti-slavery movement. Our tours address the history of enslavement and racism in a conversational format and invite and encourage visitors to make connections between inequities then and now.
URL:https://stowecenter.org/event/inspiring-stowe-21-45/
LOCATION:Stowe Center for Literary Activism\, 77 Forest Street\, Hartford\, CT\, 06106\, United States
CATEGORIES:Inspiring Stowe
ATTACH;FMTTYPE=image/jpeg:https://stowecenter.org/wp-content/uploads/2025/08/IMG_7349-scaled.jpg
ORGANIZER;CN="Stowe Center for Literary Activism":MAILTO:info@stowecenter.org
END:VEVENT
BEGIN:VEVENT
DTSTART;TZID=America/New_York:20260424T123000
DTEND;TZID=America/New_York:20260424T133000
DTSTAMP:20260421T122710
CREATED:20251117T203112Z
LAST-MODIFIED:20251117T203112Z
UID:10002407-1777033800-1777037400@stowecenter.org
SUMMARY:Inspiring Stowe
DESCRIPTION:We look forward to inspiring you with the life and work of Harriet Beecher Stowe\, author of Uncle Tom’s Cabin (1852)\, a complex and controversial novel that galvanized the anti-slavery movement. Our tours address the history of enslavement and racism in a conversational format and invite and encourage visitors to make connections between inequities then and now.
URL:https://stowecenter.org/event/inspiring-stowe-20-48/
LOCATION:Stowe Center for Literary Activism\, 77 Forest Street\, Hartford\, CT\, 06106\, United States
CATEGORIES:Inspiring Stowe
ATTACH;FMTTYPE=image/jpeg:https://stowecenter.org/wp-content/uploads/2025/08/IMG_7349-scaled.jpg
ORGANIZER;CN="Stowe Center for Literary Activism":MAILTO:info@stowecenter.org
END:VEVENT
BEGIN:VEVENT
DTSTART;TZID=America/New_York:20260424T153000
DTEND;TZID=America/New_York:20260424T163000
DTSTAMP:20260421T122710
CREATED:20251117T203042Z
LAST-MODIFIED:20251117T203043Z
UID:10003295-1777044600-1777048200@stowecenter.org
SUMMARY:Inspiring Stowe
DESCRIPTION:We look forward to inspiring you with the life and work of Harriet Beecher Stowe\, author of Uncle Tom’s Cabin (1852)\, a complex and controversial novel that galvanized the anti-slavery movement. Our tours address the history of enslavement and racism in a conversational format and invite and encourage visitors to make connections between inequities then and now.
URL:https://stowecenter.org/event/inspiring-stowe-21-46/
LOCATION:Stowe Center for Literary Activism\, 77 Forest Street\, Hartford\, CT\, 06106\, United States
CATEGORIES:Inspiring Stowe
ATTACH;FMTTYPE=image/jpeg:https://stowecenter.org/wp-content/uploads/2025/08/IMG_7349-scaled.jpg
ORGANIZER;CN="Stowe Center for Literary Activism":MAILTO:info@stowecenter.org
END:VEVENT
BEGIN:VEVENT
DTSTART;TZID=America/New_York:20260425T123000
DTEND;TZID=America/New_York:20260425T133000
DTSTAMP:20260421T122710
CREATED:20251117T203219Z
LAST-MODIFIED:20251117T203219Z
UID:10002408-1777120200-1777123800@stowecenter.org
SUMMARY:Inspiring Stowe
DESCRIPTION:We look forward to inspiring you with the life and work of Harriet Beecher Stowe\, author of Uncle Tom’s Cabin (1852)\, a complex and controversial novel that galvanized the anti-slavery movement. Our tours address the history of enslavement and racism in a conversational format and invite and encourage visitors to make connections between inequities then and now.
URL:https://stowecenter.org/event/inspiring-stowe-20-49/
LOCATION:Stowe Center for Literary Activism\, 77 Forest Street\, Hartford\, CT\, 06106\, United States
CATEGORIES:Inspiring Stowe
ATTACH;FMTTYPE=image/jpeg:https://stowecenter.org/wp-content/uploads/2025/08/IMG_7349-scaled.jpg
ORGANIZER;CN="Stowe Center for Literary Activism":MAILTO:info@stowecenter.org
END:VEVENT
BEGIN:VEVENT
DTSTART;TZID=America/New_York:20260425T153000
DTEND;TZID=America/New_York:20260425T163000
DTSTAMP:20260421T122710
CREATED:20251117T203152Z
LAST-MODIFIED:20251117T203152Z
UID:10003296-1777131000-1777134600@stowecenter.org
SUMMARY:Inspiring Stowe
DESCRIPTION:We look forward to inspiring you with the life and work of Harriet Beecher Stowe\, author of Uncle Tom’s Cabin (1852)\, a complex and controversial novel that galvanized the anti-slavery movement. Our tours address the history of enslavement and racism in a conversational format and invite and encourage visitors to make connections between inequities then and now.
URL:https://stowecenter.org/event/inspiring-stowe-21-47/
LOCATION:Stowe Center for Literary Activism\, 77 Forest Street\, Hartford\, CT\, 06106\, United States
CATEGORIES:Inspiring Stowe
ATTACH;FMTTYPE=image/jpeg:https://stowecenter.org/wp-content/uploads/2025/08/IMG_7349-scaled.jpg
ORGANIZER;CN="Stowe Center for Literary Activism":MAILTO:info@stowecenter.org
END:VEVENT
BEGIN:VEVENT
DTSTART;TZID=America/New_York:20260430T153000
DTEND;TZID=America/New_York:20260430T163000
DTSTAMP:20260421T122710
CREATED:20251117T203251Z
LAST-MODIFIED:20251117T203252Z
UID:10003297-1777563000-1777566600@stowecenter.org
SUMMARY:Inspiring Stowe
DESCRIPTION:We look forward to inspiring you with the life and work of Harriet Beecher Stowe\, author of Uncle Tom’s Cabin (1852)\, a complex and controversial novel that galvanized the anti-slavery movement. Our tours address the history of enslavement and racism in a conversational format and invite and encourage visitors to make connections between inequities then and now.
URL:https://stowecenter.org/event/inspiring-stowe-21-48/
LOCATION:Stowe Center for Literary Activism\, 77 Forest Street\, Hartford\, CT\, 06106\, United States
CATEGORIES:Inspiring Stowe
ATTACH;FMTTYPE=image/jpeg:https://stowecenter.org/wp-content/uploads/2025/08/IMG_7349-scaled.jpg
ORGANIZER;CN="Stowe Center for Literary Activism":MAILTO:info@stowecenter.org
END:VEVENT
END:VCALENDAR