BEGIN:VCALENDAR
VERSION:2.0
PRODID:-//Stowe Center for Literary Activism - ECPv6.15.20//NONSGML v1.0//EN
CALSCALE:GREGORIAN
METHOD:PUBLISH
X-WR-CALNAME:Stowe Center for Literary Activism
X-ORIGINAL-URL:https://stowecenter.org
X-WR-CALDESC:Events for Stowe Center for Literary Activism
REFRESH-INTERVAL;VALUE=DURATION:PT1H
X-Robots-Tag:noindex
X-PUBLISHED-TTL:PT1H
BEGIN:VTIMEZONE
TZID:America/New_York
BEGIN:DAYLIGHT
TZOFFSETFROM:-0500
TZOFFSETTO:-0400
TZNAME:EDT
DTSTART:20250309T070000
END:DAYLIGHT
BEGIN:STANDARD
TZOFFSETFROM:-0400
TZOFFSETTO:-0500
TZNAME:EST
DTSTART:20251102T060000
END:STANDARD
BEGIN:DAYLIGHT
TZOFFSETFROM:-0500
TZOFFSETTO:-0400
TZNAME:EDT
DTSTART:20260308T070000
END:DAYLIGHT
BEGIN:STANDARD
TZOFFSETFROM:-0400
TZOFFSETTO:-0500
TZNAME:EST
DTSTART:20261101T060000
END:STANDARD
BEGIN:DAYLIGHT
TZOFFSETFROM:-0500
TZOFFSETTO:-0400
TZNAME:EDT
DTSTART:20270314T070000
END:DAYLIGHT
BEGIN:STANDARD
TZOFFSETFROM:-0400
TZOFFSETTO:-0500
TZNAME:EST
DTSTART:20271107T060000
END:STANDARD
END:VTIMEZONE
BEGIN:VEVENT
DTSTART;TZID=America/New_York:20260226T153000
DTEND;TZID=America/New_York:20260226T163000
DTSTAMP:20260425T072901
CREATED:20251117T182345Z
LAST-MODIFIED:20251117T182345Z
UID:10003270-1772119800-1772123400@stowecenter.org
SUMMARY:Inspiring Stowe
DESCRIPTION:We look forward to inspiring you with the life and work of Harriet Beecher Stowe\, author of Uncle Tom’s Cabin (1852)\, a complex and controversial novel that galvanized the anti-slavery movement. Our tours address the history of enslavement and racism in a conversational format and invite and encourage visitors to make connections between inequities then and now.
URL:https://stowecenter.org/event/inspiring-stowe-21-22/
LOCATION:Stowe Center for Literary Activism\, 77 Forest Street\, Hartford\, CT\, 06106\, United States
CATEGORIES:Inspiring Stowe
ATTACH;FMTTYPE=image/jpeg:https://stowecenter.org/wp-content/uploads/2025/08/IMG_7349-scaled.jpg
ORGANIZER;CN="Stowe Center for Literary Activism":MAILTO:info@stowecenter.org
END:VEVENT
BEGIN:VEVENT
DTSTART;TZID=America/New_York:20260227T123000
DTEND;TZID=America/New_York:20260227T133000
DTSTAMP:20260425T072901
CREATED:20251117T182443Z
LAST-MODIFIED:20251117T182443Z
UID:10002383-1772195400-1772199000@stowecenter.org
SUMMARY:Inspiring Stowe
DESCRIPTION:We look forward to inspiring you with the life and work of Harriet Beecher Stowe\, author of Uncle Tom’s Cabin (1852)\, a complex and controversial novel that galvanized the anti-slavery movement. Our tours address the history of enslavement and racism in a conversational format and invite and encourage visitors to make connections between inequities then and now.
URL:https://stowecenter.org/event/inspiring-stowe-20-25/
LOCATION:Stowe Center for Literary Activism\, 77 Forest Street\, Hartford\, CT\, 06106\, United States
CATEGORIES:Inspiring Stowe
ATTACH;FMTTYPE=image/jpeg:https://stowecenter.org/wp-content/uploads/2025/08/IMG_7349-scaled.jpg
ORGANIZER;CN="Stowe Center for Literary Activism":MAILTO:info@stowecenter.org
END:VEVENT
BEGIN:VEVENT
DTSTART;TZID=America/New_York:20260227T153000
DTEND;TZID=America/New_York:20260227T163000
DTSTAMP:20260425T072901
CREATED:20251117T182416Z
LAST-MODIFIED:20251117T182416Z
UID:10003271-1772206200-1772209800@stowecenter.org
SUMMARY:Inspiring Stowe
DESCRIPTION:We look forward to inspiring you with the life and work of Harriet Beecher Stowe\, author of Uncle Tom’s Cabin (1852)\, a complex and controversial novel that galvanized the anti-slavery movement. Our tours address the history of enslavement and racism in a conversational format and invite and encourage visitors to make connections between inequities then and now.
URL:https://stowecenter.org/event/inspiring-stowe-21-23/
LOCATION:Stowe Center for Literary Activism\, 77 Forest Street\, Hartford\, CT\, 06106\, United States
CATEGORIES:Inspiring Stowe
ATTACH;FMTTYPE=image/jpeg:https://stowecenter.org/wp-content/uploads/2025/08/IMG_7349-scaled.jpg
ORGANIZER;CN="Stowe Center for Literary Activism":MAILTO:info@stowecenter.org
END:VEVENT
BEGIN:VEVENT
DTSTART;TZID=America/New_York:20260228T123000
DTEND;TZID=America/New_York:20260228T133000
DTSTAMP:20260425T072901
CREATED:20251117T182516Z
LAST-MODIFIED:20251117T182517Z
UID:10002384-1772281800-1772285400@stowecenter.org
SUMMARY:Inspiring Stowe
DESCRIPTION:We look forward to inspiring you with the life and work of Harriet Beecher Stowe\, author of Uncle Tom’s Cabin (1852)\, a complex and controversial novel that galvanized the anti-slavery movement. Our tours address the history of enslavement and racism in a conversational format and invite and encourage visitors to make connections between inequities then and now.
URL:https://stowecenter.org/event/inspiring-stowe-20-26/
LOCATION:Stowe Center for Literary Activism\, 77 Forest Street\, Hartford\, CT\, 06106\, United States
CATEGORIES:Inspiring Stowe
ATTACH;FMTTYPE=image/jpeg:https://stowecenter.org/wp-content/uploads/2025/08/IMG_7349-scaled.jpg
ORGANIZER;CN="Stowe Center for Literary Activism":MAILTO:info@stowecenter.org
END:VEVENT
BEGIN:VEVENT
DTSTART;TZID=America/New_York:20260228T153000
DTEND;TZID=America/New_York:20260228T163000
DTSTAMP:20260425T072901
CREATED:20251117T182457Z
LAST-MODIFIED:20251117T182458Z
UID:10003272-1772292600-1772296200@stowecenter.org
SUMMARY:Inspiring Stowe
DESCRIPTION:We look forward to inspiring you with the life and work of Harriet Beecher Stowe\, author of Uncle Tom’s Cabin (1852)\, a complex and controversial novel that galvanized the anti-slavery movement. Our tours address the history of enslavement and racism in a conversational format and invite and encourage visitors to make connections between inequities then and now.
URL:https://stowecenter.org/event/inspiring-stowe-21-24/
LOCATION:Stowe Center for Literary Activism\, 77 Forest Street\, Hartford\, CT\, 06106\, United States
CATEGORIES:Inspiring Stowe
ATTACH;FMTTYPE=image/jpeg:https://stowecenter.org/wp-content/uploads/2025/08/IMG_7349-scaled.jpg
ORGANIZER;CN="Stowe Center for Literary Activism":MAILTO:info@stowecenter.org
END:VEVENT
END:VCALENDAR