BEGIN:VCALENDAR
VERSION:2.0
PRODID:-//Stowe Center for Literary Activism - ECPv6.15.20//NONSGML v1.0//EN
CALSCALE:GREGORIAN
METHOD:PUBLISH
X-WR-CALNAME:Stowe Center for Literary Activism
X-ORIGINAL-URL:https://stowecenter.org
X-WR-CALDESC:Events for Stowe Center for Literary Activism
REFRESH-INTERVAL;VALUE=DURATION:PT1H
X-Robots-Tag:noindex
X-PUBLISHED-TTL:PT1H
BEGIN:VTIMEZONE
TZID:America/New_York
BEGIN:DAYLIGHT
TZOFFSETFROM:-0500
TZOFFSETTO:-0400
TZNAME:EDT
DTSTART:20250309T070000
END:DAYLIGHT
BEGIN:STANDARD
TZOFFSETFROM:-0400
TZOFFSETTO:-0500
TZNAME:EST
DTSTART:20251102T060000
END:STANDARD
BEGIN:DAYLIGHT
TZOFFSETFROM:-0500
TZOFFSETTO:-0400
TZNAME:EDT
DTSTART:20260308T070000
END:DAYLIGHT
BEGIN:STANDARD
TZOFFSETFROM:-0400
TZOFFSETTO:-0500
TZNAME:EST
DTSTART:20261101T060000
END:STANDARD
BEGIN:DAYLIGHT
TZOFFSETFROM:-0500
TZOFFSETTO:-0400
TZNAME:EDT
DTSTART:20270314T070000
END:DAYLIGHT
BEGIN:STANDARD
TZOFFSETFROM:-0400
TZOFFSETTO:-0500
TZNAME:EST
DTSTART:20271107T060000
END:STANDARD
END:VTIMEZONE
BEGIN:VEVENT
DTSTART;TZID=America/New_York:20260916T093000
DTEND;TZID=America/New_York:20260916T113000
DTSTAMP:20260424T083600
CREATED:20260324T182904Z
LAST-MODIFIED:20260407T164035Z
UID:10003485-1789551000-1789558200@stowecenter.org
SUMMARY:Tour Groups
DESCRIPTION:Bring your school group\, organization\, or community group to the Stowe Center for Literary Activism for an engaging\, conversational history tour. Explore the life and legacy of Harriet Beecher Stowe\, the impact of Black abolitionists and freedom builders on her work\, and the powerful ideas behind her influential novel Uncle Tom’s Cabin. \nThese interactive tours connect the struggles for freedom in the 19th century with the social questions we face today. Groups will also learn about Nook Farm\, the vibrant community of writers and thinkers that shaped Stowe’s world. \nTour Options (Select upon Checkout)  \n\nWriting Freedom – 30 minutes\nInspiring Stowe: The Real Josiah Henson – 60 minutes\nInheriting Freedom – 60 minutes\nSpirits at Stowe: Spirits After Dark – 60 minutes\nA Tradition of Literary Activism – 60 minutes\n\nAvailable for school groups (K–12) and adult/community groups of 6-40 people\, with advance reservation required.
URL:https://stowecenter.org/event/tour-groups-5/
LOCATION:Stowe Center for Literary Activism\, 77 Forest Street\, Hartford\, CT\, 06106\, United States
CATEGORIES:Tour Groups
ATTACH;FMTTYPE=image/jpeg:https://stowecenter.org/wp-content/uploads/2026/03/IMG_6455-scaled.jpg
ORGANIZER;CN="Stowe Center for Literary Activism":MAILTO:info@stowecenter.org
END:VEVENT
BEGIN:VEVENT
DTSTART;TZID=America/New_York:20260916T123000
DTEND;TZID=America/New_York:20260916T143000
DTSTAMP:20260424T083600
CREATED:20260324T182914Z
LAST-MODIFIED:20260407T164028Z
UID:10003486-1789561800-1789569000@stowecenter.org
SUMMARY:Tour Groups
DESCRIPTION:Bring your school group\, organization\, or community group to the Stowe Center for Literary Activism for an engaging\, conversational history tour. Explore the life and legacy of Harriet Beecher Stowe\, the impact of Black abolitionists and freedom builders on her work\, and the powerful ideas behind her influential novel Uncle Tom’s Cabin. \nThese interactive tours connect the struggles for freedom in the 19th century with the social questions we face today. Groups will also learn about Nook Farm\, the vibrant community of writers and thinkers that shaped Stowe’s world. \nTour Options (Select upon Checkout)  \n\nWriting Freedom – 30 minutes\nInspiring Stowe: The Real Josiah Henson – 60 minutes\nInheriting Freedom – 60 minutes\nSpirits at Stowe: Spirits After Dark – 60 minutes\nA Tradition of Literary Activism – 60 minutes\n\nAvailable for school groups (K–12) and adult/community groups of 6-40 people\, with advance reservation required.
URL:https://stowecenter.org/event/tour-groups-6/
LOCATION:Stowe Center for Literary Activism\, 77 Forest Street\, Hartford\, CT\, 06106\, United States
CATEGORIES:Tour Groups
ATTACH;FMTTYPE=image/jpeg:https://stowecenter.org/wp-content/uploads/2026/03/IMG_6455-scaled.jpg
ORGANIZER;CN="Stowe Center for Literary Activism":MAILTO:info@stowecenter.org
END:VEVENT
BEGIN:VEVENT
DTSTART;TZID=America/New_York:20260917T093000
DTEND;TZID=America/New_York:20260917T113000
DTSTAMP:20260424T083600
CREATED:20260324T183857Z
LAST-MODIFIED:20260407T164020Z
UID:10003492-1789637400-1789644600@stowecenter.org
SUMMARY:Tour Groups
DESCRIPTION:Bring your school group\, organization\, or community group to the Stowe Center for Literary Activism for an engaging\, conversational history tour. Explore the life and legacy of Harriet Beecher Stowe\, the impact of Black abolitionists and freedom builders on her work\, and the powerful ideas behind her influential novel Uncle Tom’s Cabin. \nThese interactive tours connect the struggles for freedom in the 19th century with the social questions we face today. Groups will also learn about Nook Farm\, the vibrant community of writers and thinkers that shaped Stowe’s world. \nTour Options (Select upon Checkout)  \n\nWriting Freedom – 30 minutes\nInspiring Stowe: The Real Josiah Henson – 60 minutes\nInheriting Freedom – 60 minutes\nSpirits at Stowe: Spirits After Dark – 60 minutes\nA Tradition of Literary Activism – 60 minutes\n\nAvailable for school groups (K–12) and adult/community groups of 6-40 people\, with advance reservation required.
URL:https://stowecenter.org/event/tour-groups-12/
LOCATION:Stowe Center for Literary Activism\, 77 Forest Street\, Hartford\, CT\, 06106\, United States
CATEGORIES:Tour Groups
ATTACH;FMTTYPE=image/jpeg:https://stowecenter.org/wp-content/uploads/2026/03/IMG_6455-scaled.jpg
ORGANIZER;CN="Stowe Center for Literary Activism":MAILTO:info@stowecenter.org
END:VEVENT
BEGIN:VEVENT
DTSTART;TZID=America/New_York:20260918T093000
DTEND;TZID=America/New_York:20260918T113000
DTSTAMP:20260424T083600
CREATED:20260324T183011Z
LAST-MODIFIED:20260407T164011Z
UID:10003487-1789723800-1789731000@stowecenter.org
SUMMARY:Tour Groups
DESCRIPTION:Bring your school group\, organization\, or community group to the Stowe Center for Literary Activism for an engaging\, conversational history tour. Explore the life and legacy of Harriet Beecher Stowe\, the impact of Black abolitionists and freedom builders on her work\, and the powerful ideas behind her influential novel Uncle Tom’s Cabin. \nThese interactive tours connect the struggles for freedom in the 19th century with the social questions we face today. Groups will also learn about Nook Farm\, the vibrant community of writers and thinkers that shaped Stowe’s world. \nTour Options (Select upon Checkout)  \n\nWriting Freedom – 30 minutes\nInspiring Stowe: The Real Josiah Henson – 60 minutes\nInheriting Freedom – 60 minutes\nSpirits at Stowe: Spirits After Dark – 60 minutes\nA Tradition of Literary Activism – 60 minutes\n\nAvailable for school groups (K–12) and adult/community groups of 6-40 people\, with advance reservation required.
URL:https://stowecenter.org/event/tour-groups-7/
LOCATION:Stowe Center for Literary Activism\, 77 Forest Street\, Hartford\, CT\, 06106\, United States
CATEGORIES:Tour Groups
ATTACH;FMTTYPE=image/jpeg:https://stowecenter.org/wp-content/uploads/2026/03/IMG_6455-scaled.jpg
ORGANIZER;CN="Stowe Center for Literary Activism":MAILTO:info@stowecenter.org
END:VEVENT
BEGIN:VEVENT
DTSTART;TZID=America/New_York:20260918T123000
DTEND;TZID=America/New_York:20260918T143000
DTSTAMP:20260424T083600
CREATED:20260324T183015Z
LAST-MODIFIED:20260407T163742Z
UID:10003488-1789734600-1789741800@stowecenter.org
SUMMARY:Tour Groups
DESCRIPTION:Bring your school group\, organization\, or community group to the Stowe Center for Literary Activism for an engaging\, conversational history tour. Explore the life and legacy of Harriet Beecher Stowe\, the impact of Black abolitionists and freedom builders on her work\, and the powerful ideas behind her influential novel Uncle Tom’s Cabin. \nThese interactive tours connect the struggles for freedom in the 19th century with the social questions we face today. Groups will also learn about Nook Farm\, the vibrant community of writers and thinkers that shaped Stowe’s world. \nTour Options (Select upon Checkout)  \n\nWriting Freedom – 30 minutes\nInspiring Stowe: The Real Josiah Henson – 60 minutes\nInheriting Freedom – 60 minutes\nSpirits at Stowe: Spirits After Dark – 60 minutes\nA Tradition of Literary Activism – 60 minutes\n\nAvailable for school groups (K–12) and adult/community groups of 6-40 people\, with advance reservation required.
URL:https://stowecenter.org/event/tour-groups-8/
LOCATION:Stowe Center for Literary Activism\, 77 Forest Street\, Hartford\, CT\, 06106\, United States
CATEGORIES:Tour Groups
ATTACH;FMTTYPE=image/jpeg:https://stowecenter.org/wp-content/uploads/2026/03/IMG_6455-scaled.jpg
ORGANIZER;CN="Stowe Center for Literary Activism":MAILTO:info@stowecenter.org
END:VEVENT
END:VCALENDAR