BEGIN:VCALENDAR
VERSION:2.0
PRODID:-//Stowe Center for Literary Activism - ECPv6.15.20//NONSGML v1.0//EN
CALSCALE:GREGORIAN
METHOD:PUBLISH
X-WR-CALNAME:Stowe Center for Literary Activism
X-ORIGINAL-URL:https://stowecenter.org
X-WR-CALDESC:Events for Stowe Center for Literary Activism
REFRESH-INTERVAL;VALUE=DURATION:PT1H
X-Robots-Tag:noindex
X-PUBLISHED-TTL:PT1H
BEGIN:VTIMEZONE
TZID:America/New_York
BEGIN:DAYLIGHT
TZOFFSETFROM:-0500
TZOFFSETTO:-0400
TZNAME:EDT
DTSTART:20250309T070000
END:DAYLIGHT
BEGIN:STANDARD
TZOFFSETFROM:-0400
TZOFFSETTO:-0500
TZNAME:EST
DTSTART:20251102T060000
END:STANDARD
BEGIN:DAYLIGHT
TZOFFSETFROM:-0500
TZOFFSETTO:-0400
TZNAME:EDT
DTSTART:20260308T070000
END:DAYLIGHT
BEGIN:STANDARD
TZOFFSETFROM:-0400
TZOFFSETTO:-0500
TZNAME:EST
DTSTART:20261101T060000
END:STANDARD
BEGIN:DAYLIGHT
TZOFFSETFROM:-0500
TZOFFSETTO:-0400
TZNAME:EDT
DTSTART:20270314T070000
END:DAYLIGHT
BEGIN:STANDARD
TZOFFSETFROM:-0400
TZOFFSETTO:-0500
TZNAME:EST
DTSTART:20271107T060000
END:STANDARD
END:VTIMEZONE
BEGIN:VEVENT
DTSTART;TZID=America/New_York:20260822T100000
DTEND;TZID=America/New_York:20260822T120000
DTSTAMP:20260421T212301
CREATED:20260304T215408Z
LAST-MODIFIED:20260304T215409Z
UID:10003468-1787392800-1787400000@stowecenter.org
SUMMARY:Make the World Write!
DESCRIPTION:History is happening before our eyes\, and with our new program\, the Stowe Center wants to give you the space to use your words to make your impact. Make the World Write! allows you to write in Harriet Beecher Stowe’s Hartford home. For two silent hours in Stowe’s parlors\, be with history and let it empower and guide you to write for our times. Be with history. Be a literary activist!   \nFor the best protection and care of the historic items and room you will be writing in: \n\nComputers and pencil are welcome\, please no pens\nBags smaller than 16” x 20” are allowed\nCapped water bottles only\, please leave food outside of our historic house\nAnd please\, don’t touch the objects on display
URL:https://stowecenter.org/event/make-the-world-write-2-5/
LOCATION:Stowe Center for Literary Activism\, 77 Forest Street\, Hartford\, CT\, 06106\, United States
CATEGORIES:Make the World Write!
ATTACH;FMTTYPE=image/jpeg:https://stowecenter.org/wp-content/uploads/2026/02/Back-Parlor-Wide.jpg
ORGANIZER;CN="Stowe Center for Literary Activism":MAILTO:info@stowecenter.org
END:VEVENT
END:VCALENDAR