BEGIN:VCALENDAR
VERSION:2.0
PRODID:-//Stowe Center for Literary Activism - ECPv6.15.20//NONSGML v1.0//EN
CALSCALE:GREGORIAN
METHOD:PUBLISH
X-WR-CALNAME:Stowe Center for Literary Activism
X-ORIGINAL-URL:https://stowecenter.org
X-WR-CALDESC:Events for Stowe Center for Literary Activism
REFRESH-INTERVAL;VALUE=DURATION:PT1H
X-Robots-Tag:noindex
X-PUBLISHED-TTL:PT1H
BEGIN:VTIMEZONE
TZID:America/New_York
BEGIN:DAYLIGHT
TZOFFSETFROM:-0500
TZOFFSETTO:-0400
TZNAME:EDT
DTSTART:20250309T070000
END:DAYLIGHT
BEGIN:STANDARD
TZOFFSETFROM:-0400
TZOFFSETTO:-0500
TZNAME:EST
DTSTART:20251102T060000
END:STANDARD
BEGIN:DAYLIGHT
TZOFFSETFROM:-0500
TZOFFSETTO:-0400
TZNAME:EDT
DTSTART:20260308T070000
END:DAYLIGHT
BEGIN:STANDARD
TZOFFSETFROM:-0400
TZOFFSETTO:-0500
TZNAME:EST
DTSTART:20261101T060000
END:STANDARD
BEGIN:DAYLIGHT
TZOFFSETFROM:-0500
TZOFFSETTO:-0400
TZNAME:EDT
DTSTART:20270314T070000
END:DAYLIGHT
BEGIN:STANDARD
TZOFFSETFROM:-0400
TZOFFSETTO:-0500
TZNAME:EST
DTSTART:20271107T060000
END:STANDARD
END:VTIMEZONE
BEGIN:VEVENT
DTSTART;TZID=America/New_York:20260527T180000
DTEND;TZID=America/New_York:20260527T193000
DTSTAMP:20260423T093504
CREATED:20250912T143607Z
LAST-MODIFIED:20251028T174113Z
UID:10002116-1779904800-1779910200@stowecenter.org
SUMMARY:Stowe Prize Series: The Phillips Manuscript and "James: A Novel"
DESCRIPTION:Free and open to the public\n77 Forest St\, Hartford | Zoom\n6:00 – 7:30 PM EST\, Presentation and audience Q&A\nRiverbend Bookshop: Get a 10% discount our Stowe Prize books! Mention us at check-out or use STOWEFORCHANGE for online purchases.\nWith gratitude to our funders for their support\n\n\nRegister to Attend in Person\nRegister to Attend Virtually\n\nDr. Chris Hager\, professor at Trinity College\, will discuss the role of writing and literacy in the life of Dr. Phillips as it relates to the creation of the manuscript in relation to or in conversation with these themes in the novel James. \n\nThe Stowe Prize Series continues with a powerful exploration of history\, storytelling\, and the enduring struggle for freedom. \nThis year\, we bring into conversation two remarkable works: the recently discovered Phillips Manuscript\, which documents the extraordinary life of Dr. William H. Phillips\, and Percival Everett’s award-winning novel James. The Phillips Manuscript will be on display at each gathering. \nBorn enslaved in Virginia in 1841\, Dr. Phillips went on to become a nationally respected minister at Shiloh Baptist Church in Philadelphia. His life touches on pivotal events of 19th-century America and illuminates the resilience\, courage\, and intellect of Black Americans before and after emancipation. His story resonates with the themes of Everett’s James\, which reframes the story of Huck Finn through the eyes of Jim. \nTogether\, these works invite us to reflect on the essential question:What is the role of storytelling and narrative in our understanding of history and our current culture?
URL:https://stowecenter.org/event/stowe-prize-series-the-phillips-manuscript-and-james-a-novel-4/
LOCATION:Stowe Center for Literary Activism\, 77 Forest Street\, Hartford\, CT\, 06106\, United States
CATEGORIES:Stowe Prize Series
ATTACH;FMTTYPE=image/png:https://stowecenter.org/wp-content/uploads/2025/09/Featured-Image-Size-for-Events-2.png
ORGANIZER;CN="Stowe Center for Literary Activism":MAILTO:info@stowecenter.org
END:VEVENT
BEGIN:VEVENT
DTSTART;TZID=America/New_York:20260722T180000
DTEND;TZID=America/New_York:20260722T193000
DTSTAMP:20260423T093504
CREATED:20250912T143256Z
LAST-MODIFIED:20251028T174148Z
UID:10002115-1784743200-1784748600@stowecenter.org
SUMMARY:Stowe Prize Series: The Phillips Manuscript and "James: A Novel"
DESCRIPTION:Free and open to the public\n77 Forest St\, Hartford | Zoom\n6:00 – 7:30 PM EST\, Presentation and audience Q&A\nRiverbend Bookshop: Get a 10% discount our Stowe Prize books! Mention us at check-out or use STOWEFORCHANGE for online purchases.\nWith gratitude to our funders for their support\n\n\nRegister to Attend in Person\nRegister to Attend Virtually\n\nDr. Deirdre Cooper Owens\, professor at the University of Connecticut\, will present about the history of medicine\, health and healing seen in the Phillips Manuscript in conversation with how these are expressed Percival Everett’s James. \n\nThe Stowe Prize Series continues with a powerful exploration of history\, storytelling\, and the enduring struggle for freedom. \nThis year\, we bring into conversation two remarkable works: the recently discovered Phillips Manuscript\, which documents the extraordinary life of Dr. William H. Phillips\, and Percival Everett’s award-winning novel James. The Phillips Manuscript will be on display at each gathering. \nBorn enslaved in Virginia in 1841\, Dr. Phillips went on to become a nationally respected minister at Shiloh Baptist Church in Philadelphia. His life touches on pivotal events of 19th-century America and illuminates the resilience\, courage\, and intellect of Black Americans before and after emancipation. His story resonates with the themes of Everett’s James\, which reframes the story of Huck Finn through the eyes of Jim. \nTogether\, these works invite us to reflect on the essential question:What is the role of storytelling and narrative in our understanding of history and our current culture?
URL:https://stowecenter.org/event/stowe-prize-series-the-phillips-manuscript-and-james-a-novel-3/
LOCATION:Stowe Center for Literary Activism\, 77 Forest Street\, Hartford\, CT\, 06106\, United States
CATEGORIES:Stowe Prize Series
ATTACH;FMTTYPE=image/png:https://stowecenter.org/wp-content/uploads/2025/09/Featured-Image-Size-for-Events-2.png
ORGANIZER;CN="Stowe Center for Literary Activism":MAILTO:info@stowecenter.org
END:VEVENT
END:VCALENDAR