BEGIN:VCALENDAR
VERSION:2.0
PRODID:-//Stowe Center for Literary Activism - ECPv6.15.20//NONSGML v1.0//EN
CALSCALE:GREGORIAN
METHOD:PUBLISH
X-WR-CALNAME:Stowe Center for Literary Activism
X-ORIGINAL-URL:https://stowecenter.org
X-WR-CALDESC:Events for Stowe Center for Literary Activism
REFRESH-INTERVAL;VALUE=DURATION:PT1H
X-Robots-Tag:noindex
X-PUBLISHED-TTL:PT1H
BEGIN:VTIMEZONE
TZID:America/New_York
BEGIN:DAYLIGHT
TZOFFSETFROM:-0500
TZOFFSETTO:-0400
TZNAME:EDT
DTSTART:20240310T070000
END:DAYLIGHT
BEGIN:STANDARD
TZOFFSETFROM:-0400
TZOFFSETTO:-0500
TZNAME:EST
DTSTART:20241103T060000
END:STANDARD
BEGIN:DAYLIGHT
TZOFFSETFROM:-0500
TZOFFSETTO:-0400
TZNAME:EDT
DTSTART:20250309T070000
END:DAYLIGHT
BEGIN:STANDARD
TZOFFSETFROM:-0400
TZOFFSETTO:-0500
TZNAME:EST
DTSTART:20251102T060000
END:STANDARD
BEGIN:DAYLIGHT
TZOFFSETFROM:-0500
TZOFFSETTO:-0400
TZNAME:EDT
DTSTART:20260308T070000
END:DAYLIGHT
BEGIN:STANDARD
TZOFFSETFROM:-0400
TZOFFSETTO:-0500
TZNAME:EST
DTSTART:20261101T060000
END:STANDARD
END:VTIMEZONE
BEGIN:VEVENT
DTSTART;TZID=America/New_York:20251218T123000
DTEND;TZID=America/New_York:20251218T133000
DTSTAMP:20260425T072923
CREATED:20251020T164205Z
LAST-MODIFIED:20251020T164205Z
UID:10002136-1766061000-1766064600@stowecenter.org
SUMMARY:Inspiring Stowe
DESCRIPTION:We look forward to inspiring you with the life and work of Harriet Beecher Stowe\, author of Uncle Tom’s Cabin (1852)\, a complex and controversial novel that galvanized the anti-slavery movement. Our tours address the history of enslavement and racism in a conversational format and invite and encourage visitors to make connections between inequities then and now.
URL:https://stowecenter.org/event/inspiring-stowe-3/
LOCATION:Stowe Center for Literary Activism\, 77 Forest Street\, Hartford\, CT\, 06106\, United States
CATEGORIES:Inspiring Stowe
ATTACH;FMTTYPE=image/jpeg:https://stowecenter.org/wp-content/uploads/2025/08/IMG_7349-scaled.jpg
ORGANIZER;CN="Stowe Center for Literary Activism":MAILTO:info@stowecenter.org
END:VEVENT
BEGIN:VEVENT
DTSTART;TZID=America/New_York:20251218T140000
DTEND;TZID=America/New_York:20251218T143000
DTSTAMP:20260425T072923
CREATED:20251020T163240Z
LAST-MODIFIED:20251020T163240Z
UID:10002127-1766066400-1766068200@stowecenter.org
SUMMARY:Discovering Stowe
DESCRIPTION:This succinct historical tour focuses on Harriet’s childhood\, her time in Cincinnati\, Ohio\, and the impact of free and enslaved Black people on her life and legacy. This tour moves through the first floor of the Stowe House where we invite guests to learn more about the influence of the abolitionist movement on Stowe’s famous anti-slavery novel\, Uncle Tom’s Cabin.
URL:https://stowecenter.org/event/discovering-stowe-3/
LOCATION:Stowe Center for Literary Activism\, 77 Forest Street\, Hartford\, CT\, 06106\, United States
CATEGORIES:Discovering Stowe
ATTACH;FMTTYPE=image/jpeg:https://stowecenter.org/wp-content/uploads/2025/07/discovering_stowe.jpg
ORGANIZER;CN="Stowe Center for Literary Activism":MAILTO:info@stowecenter.org
END:VEVENT
BEGIN:VEVENT
DTSTART;TZID=America/New_York:20251218T153000
DTEND;TZID=America/New_York:20251218T163000
DTSTAMP:20260425T072923
CREATED:20251020T164531Z
LAST-MODIFIED:20251020T164531Z
UID:10002145-1766071800-1766075400@stowecenter.org
SUMMARY:Inspiring Stowe
DESCRIPTION:We look forward to inspiring you with the life and work of Harriet Beecher Stowe\, author of Uncle Tom’s Cabin (1852)\, a complex and controversial novel that galvanized the anti-slavery movement. Our tours address the history of enslavement and racism in a conversational format and invite and encourage visitors to make connections between inequities then and now.
URL:https://stowecenter.org/event/inspiring-stowe-12/
LOCATION:Stowe Center for Literary Activism\, 77 Forest Street\, Hartford\, CT\, 06106\, United States
CATEGORIES:Inspiring Stowe
ATTACH;FMTTYPE=image/jpeg:https://stowecenter.org/wp-content/uploads/2025/08/IMG_7349-scaled.jpg
ORGANIZER;CN="Stowe Center for Literary Activism":MAILTO:info@stowecenter.org
END:VEVENT
BEGIN:VEVENT
DTSTART;TZID=America/New_York:20251219T123000
DTEND;TZID=America/New_York:20251219T133000
DTSTAMP:20260425T072923
CREATED:20251020T164150Z
LAST-MODIFIED:20251020T164150Z
UID:10002135-1766147400-1766151000@stowecenter.org
SUMMARY:Inspiring Stowe
DESCRIPTION:We look forward to inspiring you with the life and work of Harriet Beecher Stowe\, author of Uncle Tom’s Cabin (1852)\, a complex and controversial novel that galvanized the anti-slavery movement. Our tours address the history of enslavement and racism in a conversational format and invite and encourage visitors to make connections between inequities then and now.
URL:https://stowecenter.org/event/inspiring-stowe-2/
LOCATION:Stowe Center for Literary Activism\, 77 Forest Street\, Hartford\, CT\, 06106\, United States
CATEGORIES:Inspiring Stowe
ATTACH;FMTTYPE=image/jpeg:https://stowecenter.org/wp-content/uploads/2025/08/IMG_7349-scaled.jpg
ORGANIZER;CN="Stowe Center for Literary Activism":MAILTO:info@stowecenter.org
END:VEVENT
BEGIN:VEVENT
DTSTART;TZID=America/New_York:20251219T140000
DTEND;TZID=America/New_York:20251219T143000
DTSTAMP:20260425T072923
CREATED:20251020T163223Z
LAST-MODIFIED:20251020T163223Z
UID:10002126-1766152800-1766154600@stowecenter.org
SUMMARY:Discovering Stowe
DESCRIPTION:This succinct historical tour focuses on Harriet’s childhood\, her time in Cincinnati\, Ohio\, and the impact of free and enslaved Black people on her life and legacy. This tour moves through the first floor of the Stowe House where we invite guests to learn more about the influence of the abolitionist movement on Stowe’s famous anti-slavery novel\, Uncle Tom’s Cabin.
URL:https://stowecenter.org/event/discovering-stowe-2/
LOCATION:Stowe Center for Literary Activism\, 77 Forest Street\, Hartford\, CT\, 06106\, United States
CATEGORIES:Discovering Stowe
ATTACH;FMTTYPE=image/jpeg:https://stowecenter.org/wp-content/uploads/2025/07/discovering_stowe.jpg
ORGANIZER;CN="Stowe Center for Literary Activism":MAILTO:info@stowecenter.org
END:VEVENT
BEGIN:VEVENT
DTSTART;TZID=America/New_York:20251219T153000
DTEND;TZID=America/New_York:20251219T163000
DTSTAMP:20260425T072923
CREATED:20251020T164515Z
LAST-MODIFIED:20251020T164515Z
UID:10002144-1766158200-1766161800@stowecenter.org
SUMMARY:Inspiring Stowe
DESCRIPTION:We look forward to inspiring you with the life and work of Harriet Beecher Stowe\, author of Uncle Tom’s Cabin (1852)\, a complex and controversial novel that galvanized the anti-slavery movement. Our tours address the history of enslavement and racism in a conversational format and invite and encourage visitors to make connections between inequities then and now.
URL:https://stowecenter.org/event/inspiring-stowe-11/
LOCATION:Stowe Center for Literary Activism\, 77 Forest Street\, Hartford\, CT\, 06106\, United States
CATEGORIES:Inspiring Stowe
ATTACH;FMTTYPE=image/jpeg:https://stowecenter.org/wp-content/uploads/2025/08/IMG_7349-scaled.jpg
ORGANIZER;CN="Stowe Center for Literary Activism":MAILTO:info@stowecenter.org
END:VEVENT
BEGIN:VEVENT
DTSTART;TZID=America/New_York:20251220T123000
DTEND;TZID=America/New_York:20251220T133000
DTSTAMP:20260425T072923
CREATED:20251020T164131Z
LAST-MODIFIED:20251020T164131Z
UID:10002134-1766233800-1766237400@stowecenter.org
SUMMARY:Inspiring Stowe
DESCRIPTION:We look forward to inspiring you with the life and work of Harriet Beecher Stowe\, author of Uncle Tom’s Cabin (1852)\, a complex and controversial novel that galvanized the anti-slavery movement. Our tours address the history of enslavement and racism in a conversational format and invite and encourage visitors to make connections between inequities then and now.
URL:https://stowecenter.org/event/inspiring-stowe/
LOCATION:Stowe Center for Literary Activism\, 77 Forest Street\, Hartford\, CT\, 06106\, United States
CATEGORIES:Inspiring Stowe
ATTACH;FMTTYPE=image/jpeg:https://stowecenter.org/wp-content/uploads/2025/08/IMG_7349-scaled.jpg
ORGANIZER;CN="Stowe Center for Literary Activism":MAILTO:info@stowecenter.org
END:VEVENT
BEGIN:VEVENT
DTSTART;TZID=America/New_York:20251220T140000
DTEND;TZID=America/New_York:20251220T143000
DTSTAMP:20260425T072923
CREATED:20251020T163155Z
LAST-MODIFIED:20251020T163155Z
UID:10002125-1766239200-1766241000@stowecenter.org
SUMMARY:Discovering Stowe
DESCRIPTION:This succinct historical tour focuses on Harriet’s childhood\, her time in Cincinnati\, Ohio\, and the impact of free and enslaved Black people on her life and legacy. This tour moves through the first floor of the Stowe House where we invite guests to learn more about the influence of the abolitionist movement on Stowe’s famous anti-slavery novel\, Uncle Tom’s Cabin.
URL:https://stowecenter.org/event/discovering-stowe/
LOCATION:Stowe Center for Literary Activism\, 77 Forest Street\, Hartford\, CT\, 06106\, United States
CATEGORIES:Discovering Stowe
ATTACH;FMTTYPE=image/jpeg:https://stowecenter.org/wp-content/uploads/2025/07/discovering_stowe.jpg
ORGANIZER;CN="Stowe Center for Literary Activism":MAILTO:info@stowecenter.org
END:VEVENT
BEGIN:VEVENT
DTSTART;TZID=America/New_York:20251220T153000
DTEND;TZID=America/New_York:20251220T163000
DTSTAMP:20260425T072923
CREATED:20251028T164212Z
LAST-MODIFIED:20251031T132850Z
UID:10002153-1766244600-1766248200@stowecenter.org
SUMMARY:Spirits at Stowe
DESCRIPTION:Spirits at Stowe considers spiritualism as a tool of resistance among radicals and reformers of the 19th century. \nThrough contact with spirits\, radical women claimed authority to speak the unspeakable\, especially the right to full control and autonomy over their own bodies and families. Throughout the tour\, we will delve into the historic\, social\, and political context of the 19th century and explore the role of spiritualism in the lives of reformers\, suffragists\, and Black activists\, including Harriet Jacobs\, Frederick Douglass\, and Harriet Wilson. \nDuring the tour\, the house is “set” to reflect a Spiritualist setting. It takes place later in the evening and is by (electric) candlelight. Participants on the tour will observe and engage with materials and primary sources related to spiritualism\, including a planchette\, spiritualist newspapers\, seance accounts\, and letter excerpts from leading 19th century activists. \nSpirits at Stowe deals with themes such as violence\, sexuality\, and reproductive rights.It is not recommended for children under 13.  \n  \nWhat is spiritualism?  \nBroadly speaking\, spiritualism is the belief that an individual’s awareness persists after death and can be contacted by the living. During Spirits at Stowe\, we discuss the histories of multiple spiritualist traditions in U.S. history\, and how these beliefs helped inspire\, nourish\, and connect politically radical individuals and communities – paying special attention to abolitionism\, women’s rights\, labor rights\, and the intersection among them. \n 
URL:https://stowecenter.org/event/spirits-at-stowe-8/
LOCATION:Stowe Center for Literary Activism\, 77 Forest Street\, Hartford\, CT\, 06106\, United States
CATEGORIES:Spirits at Stowe
ATTACH;FMTTYPE=image/png:https://stowecenter.org/wp-content/uploads/2025/09/Featured-Image-Size-for-Events.png
END:VEVENT
END:VCALENDAR