BEGIN:VCALENDAR
VERSION:2.0
PRODID:-//Stowe Center for Literary Activism - ECPv6.15.20//NONSGML v1.0//EN
CALSCALE:GREGORIAN
METHOD:PUBLISH
X-WR-CALNAME:Stowe Center for Literary Activism
X-ORIGINAL-URL:https://stowecenter.org
X-WR-CALDESC:Events for Stowe Center for Literary Activism
REFRESH-INTERVAL;VALUE=DURATION:PT1H
X-Robots-Tag:noindex
X-PUBLISHED-TTL:PT1H
BEGIN:VTIMEZONE
TZID:America/New_York
BEGIN:DAYLIGHT
TZOFFSETFROM:-0500
TZOFFSETTO:-0400
TZNAME:EDT
DTSTART:20240310T070000
END:DAYLIGHT
BEGIN:STANDARD
TZOFFSETFROM:-0400
TZOFFSETTO:-0500
TZNAME:EST
DTSTART:20241103T060000
END:STANDARD
BEGIN:DAYLIGHT
TZOFFSETFROM:-0500
TZOFFSETTO:-0400
TZNAME:EDT
DTSTART:20250309T070000
END:DAYLIGHT
BEGIN:STANDARD
TZOFFSETFROM:-0400
TZOFFSETTO:-0500
TZNAME:EST
DTSTART:20251102T060000
END:STANDARD
BEGIN:DAYLIGHT
TZOFFSETFROM:-0500
TZOFFSETTO:-0400
TZNAME:EDT
DTSTART:20260308T070000
END:DAYLIGHT
BEGIN:STANDARD
TZOFFSETFROM:-0400
TZOFFSETTO:-0500
TZNAME:EST
DTSTART:20261101T060000
END:STANDARD
END:VTIMEZONE
BEGIN:VEVENT
DTSTART;TZID=America/New_York:20251227T123000
DTEND;TZID=America/New_York:20251227T133000
DTSTAMP:20260419T103613
CREATED:20251104T205412Z
LAST-MODIFIED:20251104T205412Z
UID:10002156-1766838600-1766842200@stowecenter.org
SUMMARY:Inspiring Stowe
DESCRIPTION:We look forward to inspiring you with the life and work of Harriet Beecher Stowe\, author of Uncle Tom’s Cabin (1852)\, a complex and controversial novel that galvanized the anti-slavery movement. Our tours address the history of enslavement and racism in a conversational format and invite and encourage visitors to make connections between inequities then and now.
URL:https://stowecenter.org/event/inspiring-stowe-10/
LOCATION:Stowe Center for Literary Activism\, 77 Forest Street\, Hartford\, CT\, 06106\, United States
CATEGORIES:Inspiring Stowe
ATTACH;FMTTYPE=image/jpeg:https://stowecenter.org/wp-content/uploads/2025/08/IMG_7349-scaled.jpg
ORGANIZER;CN="Stowe Center for Literary Activism":MAILTO:info@stowecenter.org
END:VEVENT
BEGIN:VEVENT
DTSTART;TZID=America/New_York:20251227T140000
DTEND;TZID=America/New_York:20251227T143000
DTSTAMP:20260419T103613
CREATED:20251104T205612Z
LAST-MODIFIED:20251104T205612Z
UID:10002157-1766844000-1766845800@stowecenter.org
SUMMARY:Discovering Stowe
DESCRIPTION:This succinct historical tour focuses on Harriet’s childhood\, her time in Cincinnati\, Ohio\, and the impact of free and enslaved Black people on her life and legacy. This tour moves through the first floor of the Stowe House where we invite guests to learn more about the influence of the abolitionist movement on Stowe’s famous anti-slavery novel\, Uncle Tom’s Cabin.
URL:https://stowecenter.org/event/discovering-stowe-10/
LOCATION:Stowe Center for Literary Activism\, 77 Forest Street\, Hartford\, CT\, 06106\, United States
CATEGORIES:Discovering Stowe
ATTACH;FMTTYPE=image/jpeg:https://stowecenter.org/wp-content/uploads/2025/07/discovering_stowe.jpg
ORGANIZER;CN="Stowe Center for Literary Activism":MAILTO:info@stowecenter.org
END:VEVENT
BEGIN:VEVENT
DTSTART;TZID=America/New_York:20251227T153000
DTEND;TZID=America/New_York:20251227T163000
DTSTAMP:20260419T103613
CREATED:20251104T205744Z
LAST-MODIFIED:20251104T205744Z
UID:10002158-1766849400-1766853000@stowecenter.org
SUMMARY:Inspiring Stowe
DESCRIPTION:We look forward to inspiring you with the life and work of Harriet Beecher Stowe\, author of Uncle Tom’s Cabin (1852)\, a complex and controversial novel that galvanized the anti-slavery movement. Our tours address the history of enslavement and racism in a conversational format and invite and encourage visitors to make connections between inequities then and now.
URL:https://stowecenter.org/event/inspiring-stowe-19/
LOCATION:Stowe Center for Literary Activism\, 77 Forest Street\, Hartford\, CT\, 06106\, United States
CATEGORIES:Inspiring Stowe
ATTACH;FMTTYPE=image/jpeg:https://stowecenter.org/wp-content/uploads/2025/08/IMG_7349-scaled.jpg
ORGANIZER;CN="Stowe Center for Literary Activism":MAILTO:info@stowecenter.org
END:VEVENT
END:VCALENDAR