BEGIN:VCALENDAR
VERSION:2.0
PRODID:-//Stowe Center for Literary Activism - ECPv6.15.20//NONSGML v1.0//EN
CALSCALE:GREGORIAN
METHOD:PUBLISH
X-ORIGINAL-URL:https://stowecenter.org
X-WR-CALDESC:Events for Stowe Center for Literary Activism
REFRESH-INTERVAL;VALUE=DURATION:PT1H
X-Robots-Tag:noindex
X-PUBLISHED-TTL:PT1H
BEGIN:VTIMEZONE
TZID:America/New_York
BEGIN:DAYLIGHT
TZOFFSETFROM:-0500
TZOFFSETTO:-0400
TZNAME:EDT
DTSTART:20250309T070000
END:DAYLIGHT
BEGIN:STANDARD
TZOFFSETFROM:-0400
TZOFFSETTO:-0500
TZNAME:EST
DTSTART:20251102T060000
END:STANDARD
BEGIN:DAYLIGHT
TZOFFSETFROM:-0500
TZOFFSETTO:-0400
TZNAME:EDT
DTSTART:20260308T070000
END:DAYLIGHT
BEGIN:STANDARD
TZOFFSETFROM:-0400
TZOFFSETTO:-0500
TZNAME:EST
DTSTART:20261101T060000
END:STANDARD
BEGIN:DAYLIGHT
TZOFFSETFROM:-0500
TZOFFSETTO:-0400
TZNAME:EDT
DTSTART:20270314T070000
END:DAYLIGHT
BEGIN:STANDARD
TZOFFSETFROM:-0400
TZOFFSETTO:-0500
TZNAME:EST
DTSTART:20271107T060000
END:STANDARD
END:VTIMEZONE
BEGIN:VEVENT
DTSTART;TZID=America/New_York:20260514T123000
DTEND;TZID=America/New_York:20260514T133000
DTSTAMP:20260425T102625
CREATED:20251117T204544Z
LAST-MODIFIED:20251117T204545Z
UID:10002415-1778761800-1778765400@stowecenter.org
SUMMARY:Inspiring Stowe
DESCRIPTION:We look forward to inspiring you with the life and work of Harriet Beecher Stowe\, author of Uncle Tom’s Cabin (1852)\, a complex and controversial novel that galvanized the anti-slavery movement. Our tours address the history of enslavement and racism in a conversational format and invite and encourage visitors to make connections between inequities then and now.
URL:https://stowecenter.org/event/inspiring-stowe-20-56/
LOCATION:Stowe Center for Literary Activism\, 77 Forest Street\, Hartford\, CT\, 06106\, United States
CATEGORIES:Inspiring Stowe
ATTACH;FMTTYPE=image/jpeg:https://stowecenter.org/wp-content/uploads/2025/08/IMG_7349-scaled.jpg
ORGANIZER;CN="Stowe Center for Literary Activism":MAILTO:info@stowecenter.org
END:VEVENT
BEGIN:VEVENT
DTSTART;TZID=America/New_York:20260514T140000
DTEND;TZID=America/New_York:20260514T143000
DTSTAMP:20260425T102625
CREATED:20251117T195809Z
LAST-MODIFIED:20251117T195809Z
UID:10003241-1778767200-1778769000@stowecenter.org
SUMMARY:Discovering Stowe
DESCRIPTION:This succinct historical tour focuses on Harriet’s childhood\, her time in Cincinnati\, Ohio\, and the impact of free and enslaved Black people on her life and legacy. This tour moves through the first floor of the Stowe House where we invite guests to learn more about the influence of the abolitionist movement on Stowe’s famous anti-slavery novel\, Uncle Tom’s Cabin.
URL:https://stowecenter.org/event/discovering-stowe-11-56/
LOCATION:Stowe Center for Literary Activism\, 77 Forest Street\, Hartford\, CT\, 06106\, United States
CATEGORIES:Discovering Stowe
ATTACH;FMTTYPE=image/jpeg:https://stowecenter.org/wp-content/uploads/2025/07/discovering_stowe.jpg
ORGANIZER;CN="Stowe Center for Literary Activism":MAILTO:info@stowecenter.org
END:VEVENT
BEGIN:VEVENT
DTSTART;TZID=America/New_York:20260514T153000
DTEND;TZID=America/New_York:20260514T163000
DTSTAMP:20260425T102625
CREATED:20251117T204457Z
LAST-MODIFIED:20251117T204523Z
UID:10003303-1778772600-1778776200@stowecenter.org
SUMMARY:Inspiring Stowe
DESCRIPTION:We look forward to inspiring you with the life and work of Harriet Beecher Stowe\, author of Uncle Tom’s Cabin (1852)\, a complex and controversial novel that galvanized the anti-slavery movement. Our tours address the history of enslavement and racism in a conversational format and invite and encourage visitors to make connections between inequities then and now.
URL:https://stowecenter.org/event/inspiring-stowe-21-54/
LOCATION:Stowe Center for Literary Activism\, 77 Forest Street\, Hartford\, CT\, 06106\, United States
CATEGORIES:Inspiring Stowe
ATTACH;FMTTYPE=image/jpeg:https://stowecenter.org/wp-content/uploads/2025/08/IMG_7349-scaled.jpg
ORGANIZER;CN="Stowe Center for Literary Activism":MAILTO:info@stowecenter.org
END:VEVENT
BEGIN:VEVENT
DTSTART;TZID=America/New_York:20260515T123000
DTEND;TZID=America/New_York:20260515T133000
DTSTAMP:20260425T102625
CREATED:20251117T204641Z
LAST-MODIFIED:20251117T204642Z
UID:10002416-1778848200-1778851800@stowecenter.org
SUMMARY:Inspiring Stowe
DESCRIPTION:We look forward to inspiring you with the life and work of Harriet Beecher Stowe\, author of Uncle Tom’s Cabin (1852)\, a complex and controversial novel that galvanized the anti-slavery movement. Our tours address the history of enslavement and racism in a conversational format and invite and encourage visitors to make connections between inequities then and now.
URL:https://stowecenter.org/event/inspiring-stowe-20-57/
LOCATION:Stowe Center for Literary Activism\, 77 Forest Street\, Hartford\, CT\, 06106\, United States
CATEGORIES:Inspiring Stowe
ATTACH;FMTTYPE=image/jpeg:https://stowecenter.org/wp-content/uploads/2025/08/IMG_7349-scaled.jpg
ORGANIZER;CN="Stowe Center for Literary Activism":MAILTO:info@stowecenter.org
END:VEVENT
BEGIN:VEVENT
DTSTART;TZID=America/New_York:20260515T140000
DTEND;TZID=America/New_York:20260515T143000
DTSTAMP:20260425T102625
CREATED:20251117T200841Z
LAST-MODIFIED:20251117T200841Z
UID:10003379-1778853600-1778855400@stowecenter.org
SUMMARY:Discovering Stowe
DESCRIPTION:This succinct historical tour focuses on Harriet’s childhood\, her time in Cincinnati\, Ohio\, and the impact of free and enslaved Black people on her life and legacy. This tour moves through the first floor of the Stowe House where we invite guests to learn more about the influence of the abolitionist movement on Stowe’s famous anti-slavery novel\, Uncle Tom’s Cabin.
URL:https://stowecenter.org/event/discovering-stowe-13/
LOCATION:Stowe Center for Literary Activism\, 77 Forest Street\, Hartford\, CT\, 06106\, United States
CATEGORIES:Discovering Stowe
ATTACH;FMTTYPE=image/jpeg:https://stowecenter.org/wp-content/uploads/2025/07/discovering_stowe.jpg
ORGANIZER;CN="Stowe Center for Literary Activism":MAILTO:info@stowecenter.org
END:VEVENT
BEGIN:VEVENT
DTSTART;TZID=America/New_York:20260515T153000
DTEND;TZID=America/New_York:20260515T163000
DTSTAMP:20260425T102625
CREATED:20251117T204601Z
LAST-MODIFIED:20251117T204601Z
UID:10003304-1778859000-1778862600@stowecenter.org
SUMMARY:Inspiring Stowe
DESCRIPTION:We look forward to inspiring you with the life and work of Harriet Beecher Stowe\, author of Uncle Tom’s Cabin (1852)\, a complex and controversial novel that galvanized the anti-slavery movement. Our tours address the history of enslavement and racism in a conversational format and invite and encourage visitors to make connections between inequities then and now.
URL:https://stowecenter.org/event/inspiring-stowe-21-55/
LOCATION:Stowe Center for Literary Activism\, 77 Forest Street\, Hartford\, CT\, 06106\, United States
CATEGORIES:Inspiring Stowe
ATTACH;FMTTYPE=image/jpeg:https://stowecenter.org/wp-content/uploads/2025/08/IMG_7349-scaled.jpg
ORGANIZER;CN="Stowe Center for Literary Activism":MAILTO:info@stowecenter.org
END:VEVENT
BEGIN:VEVENT
DTSTART;TZID=America/New_York:20260516T120000
DTEND;TZID=America/New_York:20260516T160000
DTSTAMP:20260425T102626
CREATED:20260315T005604Z
LAST-MODIFIED:20260408T164847Z
UID:10003479-1778932800-1778947200@stowecenter.org
SUMMARY:El Teteo in Harriet's Backyard
DESCRIPTION:A Community Celebration at the Stowe Center \nJoin us for a teteo—a Dominican slang word for a lively party—as we close the exhibition What does it mean to be Human?\, a collaboration between artist Amanda Mendoza and researcher Gamze Ozker. \nThrough intimate and reflective works\, the exhibition explores what it means to be recognized as human within systems that determine whose rights are protected and whose are denied. Together\, Mendoza and Ozker examine how compassion and dignity are lost—and reclaimed—through struggles for human rights. \nWe invite the community to gather in Harriet Beecher Stowe’s backyard for a celebration of joy\, culture\, and community as we close the exhibition the best way we know how—by coming together. Because Harriet’s backyard is for everyone. \n\nWhat to Expect\n\nCar show featuring local enthusiasts in collaboration with Rad Stallions. \nSponsored by Xtreme Rides and Haymond Law Firm.\nMusic and dancing\nDominos and card games\nArts & crafts for all ages\nFood vendors\nLocal organizations tabling\n\nIf you are interested in displaying your car please email Miguel Santos \nThe Stowe Center Visitor Center will be open during the event\, giving visitors the chance to experience Amanda Mendoza’s exhibition What does it mean to be Human? on its final day on view. \n\nFood & Vendors\n\nLos Chamos Street Food Truck\nPika Food Truck\nRolling Roti Food Truck\n\n\nCommunity Organizations\nHartford Public Library • CT Fair Housing Center • Center for Latino Progress • Make the Road Connecticut • Sierra Club Connecticut • Hispanic Health Council • Night Fall Hartford • Lucinda’s House • Helena’s Casita \nFamilies and visitors of all ages are welcome. Registration is not required\, but recommended.
URL:https://stowecenter.org/event/el-teteo-in-harriets-backyard/
LOCATION:Stowe Center for Literary Activism\, 77 Forest Street\, Hartford\, CT\, 06106\, United States
CATEGORIES:What Does it Mean to Be Human?
ATTACH;FMTTYPE=image/jpeg:https://stowecenter.org/wp-content/uploads/2026/03/IMG_20240613_103103-e1773536219852.jpg
ORGANIZER;CN="Stowe Center for Literary Activism":MAILTO:info@stowecenter.org
END:VEVENT
END:VCALENDAR